Workbook
Name Excel_BuiltIn_Print_Area: 'Articolazione della candidatura'!$B$1:$G$41
Name Excel_BuiltIn_Print_Area: 'Dati impresa unica'!$A$1:$Q$200
Name Excel_BuiltIn_Print_Area: 'Riepilogo dati'!$D$1:$M$7
Name Excel_BuiltIn_Print_Area: 'Suddivisione prevent'!$B$1:$G$22
Name Excel_BuiltIn_Print_Area: 'Ucs Prog 1'!$A$4:$F$75
Name Excel_BuiltIn_Print_Area: 'Ucs Prog 2'!$A$4:$F$74
Name Excel_BuiltIn_Print_Area: 'Ucs Prog 3'!$A$4:$F$74
Name Excel_BuiltIn_Print_Area: 'Ucs Prog 4'!$A$4:$F$74
Name Excel_BuiltIn_Print_Area: 'Ucs Prog 5'!$A$4:$F$74

Sheet ISTRUZIONI COMPILAZIONE, STAMPA
A3: Il file, oltre al presente foglio di istruzioni, è composto dai seguenti fogli di lavoro:
A5: - Dati sintetici Operazione
A6: - Dati anagrafici proponente
A7: - Dati anagrafici partner
A8: - Dati imprese beneficiarie
A9: - Dati impresa unica
A10: - Articolazione della candidatura (apporre firma da parte del legale rappresentante del Soggetto proponente - capofila in caso di A.T.I./A.T.S. e di accordo organizzativo)
A11: - Ripartiz All-Imprese-Prog
A12: - Dati Operazione
A13: - Priorità
A14: UCS Prog 1 ÷ Prog 5
A15: - Suddivisione prevent
... A31: Si suggerisce la compilazione dei fogli di lavoro secondo il seguente ordine, precisando che comunque la compilazione di ciascun foglio sarà completa solo dopo aver compilato tutti i fogli di lavoro.
A34: Fogli di lavoro | E34: Istruzioni
A35: Dati sintetici Operazione | E35: Inserire i dati richiesti.
A36: Dati anagrafici proponente | E36: Inserire i dati dell’impresa oppure dell’Organismo Formativo attuatore capofila di ATI/ATS o per conto di impresa/e individuata/e sulla base di un accordo organizzativo
A37: Dati anagrafici proponente | E37: Inserire i dati del soggetto partner (se presente)
A38: Dati imprese beneficiarie | E38: Dati fondamentali e necessari per l’inserimento nel Registro Nazionale Aiuti. Compilare una sezione per ciascuna impresa. Con riferimento agli studi associati di professionisti si raccomanda di inserire il CF dello studio, e non del singolo professionista, al fine del corretto caricamento del relativo aiuto sul RNA
A39: Dati impresa unica | E39: Questo foglio dovrà essere compilato esclusivamente nel caso in cui una o più imprese beneficiarie della formazione siano componenti di una “impresa unica”. Compilare una sezione per ciascuna impresa.
A40: Articolazione della candidatura | E40: Inserire i dati richiesti. Inserire manualmente la percentuale di finanziamento pubblico – tenuto conto della dimensione di impresa - in caso di compartecipazione di finanziamento privato. Firmare tale foglio ai fini della sottoscrizione dell’intero file.
A41: Ripartiz All-Imprese-Prog | E41: Indicare, per ciascuna impresa beneficiaria, quanti sono gli allievi partecipanti ai diversi progetti (corsi) tenuto conto delle eventuali edizioni ripetitive di ciascun progetto.
A42: Dati Operazione | E42: Inserire il n. di edizioni previste (celle C23÷C27) e per ciascuna edizione il n. di ore (celle D23÷D27). Il foglio calcola automaticamente, arrotondando per difetto, il numero medio di allievi per edizione (celle E23÷E27) attribuiti dal proponente (nel foglio “Ripartiz All-Imprese-Prog”) per ciascuna impresa e ciascun progetto. In merito al numero di allievi per edizione si rammentano i vincoli indicati al Paragrafo 4 dell’Avviso. A tal fine si suggerisce di indicare un n. di allievi per edizione congruo con tali vincoli, motivando adeguatamente in caso di numeri differenti.
A43: Priorità | E43: Indicare “SI” solo nel caso in cui l’Operazione sia rispondente ai criteri indicati. Descrivere nel box indicato se e in che modo gli interventi formativi sono riconducili alle priorità indicate dall’Avviso
A44: Calcolo UCS Prog 1 ÷ Prog 5 | E44: Compilare il calcolo UCS di ciascun progetto (corso) proposto. Inserire manualmente l’importo dell’eventuale cofinanziamento privato, tenuto conto della dimensione di impresa e del tipo di regime di Aiuti di Stato scelto
A45: Suddivisione prevent | E45: In caso di soggetto proponente singolo compilare solo le celle F23 ÷ F27. Nel caso di A.T.I./A.T.S. o accordo organizzativo, indicare, nelle celle F23 ÷ J27 (in funzione dei soggetti partecipanti) gli importi spettanti a ciascun soggetto.
A46: Riepilogo dati | E46: Inserire manualmente ove richiesti i dati
A51: Il presente file, debitamente compilato, dovrà essere allegato tramite il sistema informativo condiviso FpOpenGolfo (https://servizi.regione.liguria.it/page/welcome/FP_OPEN), come previsto dal Par. 12 dell’Avviso, alla Candidatura
A52: programmazione.bandi@alfaliguria.it
A53: Si rammenta che tutti i fogli del presente file dovranno essere prodotti in formato pdf, in un unica scansione, e allegati tramite il predetto sistema informativo FpOpen Golfo come da indicazioni dell’Avviso. Inoltre, tale file in versione pdf dovrà essere sottoscritto apponendo la firma, olografa o digitale, del Soggetto proponente nel foglio “ARTICOLAZIONE DELLA CANDIDATURA”.

Sheet Dati sintetici Operazione
C2: DATI SINTETICI OPERAZIONE
C4: Titolo operazione
K5: Ambito Territoriale | L5: Tipologia soggetto | O5: Priorità
K6: Genova | L6: Impresa singola | O6: SI
C7: Dati soggetto proponente | K7: Savona | L7: ATI con Organismo Formativo Capofila | O7: NO
B8: Ambito territoriale | K8: Imperia | L8: ATS con Organismo Formativo Capofila
K9: La Spezia | L9: Organismo Formativo per conto di imprese
A10: Tipologia soggetto proponente | L10: ATS Organismi Formativi per conto di imprese
A12: Denominazione/Ragione sociale Soggetto proponente o capofila
A14: Indirizzo sede legale Soggetto proponente o capofila
A16: PEC Soggetto proponente o capofila
A18: Codice fiscale/Partita IVA Soggetto proponente o capofila
A20: IBAN Soggetto proponente o capofila
C23: Beneficiari (imprese destinatarie della formazione)
B24: Beneficiario 1
B25: Beneficiario 2
B26: Beneficiario 3
B27: Beneficiario 4
B28: Beneficiario 5
B29: Beneficiario 6
B30: Beneficiario 7
B31: Beneficiario 8
B32: Beneficiario 9
B33: Beneficiario 10
B34: Beneficiario 11
B35: Beneficiario 12
... B38: Beneficiario 15

Sheet Dati anagrafici proponente
D2: DATI ANAGRAFICI SOGGETTO PROPONENTE/CAPOFILA | M2: Dom Accr | O2: N. addetti | Q2: Definizione | S2: Accreditamento
M3: SI | O3: da 1 a 9 | Q3: Micro Impresa | S3: “Formazione lungo tutto l’arco della vita” ai sensi della D.G.R. n. 28 del 22 gennaio 2010 e s.m. e i. | AC3: ALTRE FORME
M4: NO | O4: da 10 a 49 | Q4: PMI | S4: Proponente in fase di accreditamento | AC4: ALTRO
B5: Organismo proponente | O5: da 50 a 249 | Q5: Grande Impresa | S5: Accreditamento non richiesto (per proponente che non sia Organismo Formativo) | AC5: ASSOCIAZIONE
B6: Denominazione/ragione sociale | D6: ='Dati sintetici Operazione'!C12 -> 0 | O6: da 250 a 499 | AC6: ASSOCIAZIONE IMPRESA
O7: 500 e oltre | AC7: ASSOCIAZIONE IN PARTECIPAZIONE
B8: Natura giuridica | AC8: AZIENDA AUTONOMA STATALE
AC9: AZIENDA MUNICIPALE
B10: Indirizzo sede legale | C10: Indirizzo sede legale | D10: ='Dati sintetici Operazione'!C14 -> 0 | AC10: AZIENDA PROVINCIALE
AC11: AZIENDA REGIONALE
C12: Telefono | AC12: AZIENDA SPECIALE
AC13: AZIENDA SPECIALE DI CUI AL DLGS 267/2000
C14: Fax | AC14: AZIENDA SPECIALE DI ENTE LOCALE
AC15: COMUNIONE EREDITARIA
C16: E-mail | AC16: CONSORZIO
AC17: CONSORZIO CON ATTIVITA' ESTERNA
C18: PEC | D18: ='Dati sintetici Operazione'!C16 -> 0 | AC18: CONSORZIO DI CUI AL DLGS 267/2000
AC19: CONSORZIO FIDI
B20: Codice fiscale/Partita IVA | D20: ='Dati sintetici Operazione'!$C$18 -> 0 | AC20: CONSORZIO INTERCOMUNALE
AC21: CONSORZIO MUNICIPALE
C22: Matricola INPS | AC22: CONSORZIO SENZA ATTIVITA' ESTERNA
AC23: CONTRATTO DI RETE DOTATO DI SOGGETTIVITA' GIURIDICA
C24: Codice IBAN | D24: ='Dati sintetici Operazione'!C20 -> 0 | AC24: COOPERATIVA SOCIALE
AC25: ENTE
B26: Macrotipologia accreditamento | AC26: ENTE DI CUI ALLA L.R. 21-12-93 N. 88
AC27: ENTE DIRITTO PUBBLICO
C28: Eventuale D.G.R. di accreditamento | AC28: ENTE ECCLESIASTICO
AC29: ENTE ECCLESIASTICO CIVILMENTE RICONOSCIUTO
A30: Ha presentato domanda per avviare la procedura di accreditamento entro la data di scadenza del presente bando* | AC30: ENTE IMPRESA
AC31: ENTE MORALE
D32: * nel caso, allegare copia del frontespizio della domanda di accreditamento | AC32: ENTE PUBBLICO COMMERCIALE
AC33: ENTE PUBBLICO ECONOMICO
C34: Codice Ateco | AC34: ENTE SOCIALE
AC35: FONDAZIONE IMPRESA
B36: Indirizzo Sede/i formativa/e (indicare solo se diverso dalla sede legale e replicare per ciascuna sede formativa individuata) | AC36: GRUPPO EUROPEO DI INTERESSE ECONOMICO
C37: Indirizzo Sede 1 | AC37: IMPRESA FAMILIARE
AC38: IMPRESA INDIVIDUALE
C39: Tel/Fax/e-mail/PEC | AC39: ISTITUTO DI CREDITO
AC40: ISTITUTO DI CREDITO DI DIRITTO PUBBLICO
C41: Indirizzo Sede 2 | AC41: ISTITUTO RELIGIOSO
...

Sheet Dati anagrafici partner
C3: DATI ANAGRAFICI SOGGETTO PARTNER
B7: Denominazione e Ragione Sociale
B8: Classificazione Ateco (2007) | D8: Codice | F8: Descrizione | W8: ALTRE FORME
B9: Natura giuridica | W9: ASSOCIAZIONE
B10: Rappresentane legale | W10: ASSOCIAZIONE IMPRESA
B11: Indirizzo sede legale | C11: Indirizzo sede legale | W11: ASSOCIAZIONE IN PARTECIPAZIONE
B12: Città | W12: AZIENDA AUTONOMA STATALE
B13: Provincia | W13: AZIENDA MUNICIPALE
B14: CAP | W14: AZIENDA PROVINCIALE
B15: Tel | W15: AZIENDA REGIONALE
B16: E-mail | W16: AZIENDA SPECIALE
B17: Coordinate Bancarie | W17: AZIENDA SPECIALE DI CUI AL DLGS 267/2000
B18: Partita IVA | W18: AZIENDA SPECIALE DI ENTE LOCALE
B19: Codice Fiscale | W19: COMUNIONE EREDITARIA
B20: Matricola Inps | W20: CONSORZIO
B21: Macrotipologia Accreditamento | W21: CONSORZIO CON ATTIVITA' ESTERNA
B22: Indirizzo sede operativa | W22: CONSORZIO DI CUI AL DLGS 267/2000
B23: Città | W23: CONSORZIO FIDI
... B30: E-mail del Referente | W30: ENTE DI CUI ALLA L.R. 21-12-93 N. 88
W31: ENTE ECCLESIASTICO
W32: ENTE ECCLESIASTICO CIVILMENTE RICONOSCIUTO
W33: ENTE IMPRESA
W34: ENTE MORALE
W35: ENTE PUBBLICO COMMERCIALE
W36: ENTE PUBBLICO ECONOMICO
B37: Denominazione e Ragione Sociale | W37: ENTE SOCIALE
B38: Classificazione Ateco (2007) | D38: Codice | F38: Descrizione | W38: FONDAZIONE IMPRESA
B39: Natura giuridica | W39: GRUPPO EUROPEO DI INTERESSE ECONOMICO
B40: Rappresentane legale | W40: IMPRESA FAMILIARE
B41: Indirizzo sede legale | C41: Indirizzo sede legale | W41: IMPRESA INDIVIDUALE
B42: Città | W42: ISTITUTO DI CREDITO
B43: Provincia | W43: ISTITUTO DI CREDITO DI DIRITTO PUBBLICO
B44: CAP | W44: ISTITUTO RELIGIOSO
B45: Tel | W45: MUTUA ASSICURAZIONE
B46: E-mail | W46: PERSONA FISICA
B47: Coordinate Bancarie | W47: PICCOLA SOCIETA' COOPERATIVA
B48: Partita IVA | W48: PICCOLA SOCIETA' COOPERATIVA A RESPONSABILTA' LIMITATA
B49: Codice Fiscale | W49: SOCIETA' ANONIMA
B50: Matricola Inps | W50: SOCIETA' A RESPONSABILTA' LIMITATA
B51: Macrotipologia Accreditamento | W51: SOCIETA' A RESPONSABILTA' LIMITATA A CAPITALE RIDOTTO
...

Sheet Dati imprese beneficiarie
AO1: CODICI ATECO
AO2: A AGRICOLTURA, SILVICOLTURA E PESCA
AO3: 01 Produzioni vegetali e animali, caccia e servizi connessi
AO4: 01.1 Coltivazione di colture agricole non permanenti
AO5: 01.11 Coltivazione di cereali, legumi da granella e semi oleosi, escluso il riso
C6: Avviso pubblico rivolto alle imprese per il finanziamento di interventi di Formazione Continua | AO6: 01.11.0 Coltivazione di cereali, legumi da granella e semi oleosi, escluso il riso
AO7: 01.11.00 Coltivazione di cereali, legumi da granella e semi oleosi, escluso il riso
E8: Programma Regionale Liguria FSE+ 2021-2027 Priorità 1. “Occupazione”, obiettivo specifico 4.4 | AO8: 01.12 Coltivazione di riso
AO9: 01.12.0 Coltivazione di riso
AO10: 01.12.00 Coltivazione di riso
AO11: 01.13 Coltivazione di ortaggi e meloni, radici e tuberi
B12: SOGGETTO ATTUATORE | C12: ='Dati sintetici Operazione'!C12 -> 0 | AO12: 01.13.1 Coltivazione di ortaggi e meloni
B13: OPERAZIONE | C13: ='Dati sintetici Operazione'!C5 -> 0 | AO13: 01.13.11 Coltivazione di ortaggi e meloni in piena aria
AO14: 01.13.12 Coltivazione di ortaggi e meloni in colture protette fuori suolo
AO15: 01.13.13 Coltivazione di ortaggi e meloni in altre colture protette, escluse colture fuori suolo
A16: DATI IMPRESE PER REGISTRO AIUTI DI STATO | AO16: 01.13.2 Coltivazione di radici, incluse barbabietole da zucchero
A17: BENEFICIARIO 1 | AO17: 01.13.20 Coltivazione di radici, incluse barbabietole da zucchero
AO18: 01.13.3 Coltivazione di tuberi, incluse patate
A19: DENOMINAZIONE | B19: ='Dati sintetici Operazione'!C24 -> 0 | V19: TIPOLOGIA DEL SOGGETTO BENEFICIARIO | AF19: FORMA GIURIDICA | AO19: 01.13.30 Coltivazione di tuberi, incluse patate
V20: IMPRESA ISCRITTA AL REGISTRO IMPRESE (con sede legale o sede secondaria in Italia) | AF20: ALTRE FORME | AO20: 01.14 Coltivazione di canna da zucchero
A21: CODICE FISCALE | V21: SOGGETTO ESTERO senza sede secondaria in Italia | AF21: ALTRO | AO21: 01.14.0 Coltivazione di canna da zucchero
V22: SOGGETTO PUBBLICO | AF22: ASSOCIAZIONE | AO22: 01.14.00 Coltivazione di canna da zucchero
A23: P IVA | V23: PROFESSIONISTA O ASSOCIAZIONE DI PROFESSIONISTI | AF23: ASSOCIAZIONE IMPRESA | AO23: 01.15 Coltivazione di tabacco
A24: SEDE LEGALE | V24: SOGGETTO DA ISCRIVERE AL REGISTRO IMPRESE | AF24: ASSOCIAZIONE IN PARTECIPAZIONE | AO24: 01.15.0 Coltivazione di tabacco
B25: NAZIONE: | D25: REGIONE: | F25: PROVINCIA: | H25: COMUNE: | V25: SOGGETTO NON ISCRIVIBILE AL REGISTRO IMPRESE | AF25: AZIENDA AUTONOMA STATALE | AO25: 01.15.00 Coltivazione di tabacco
AF26: AZIENDA MUNICIPALE | AO26: 01.16 Coltivazione di piante tessili
V27: DIMENSIONE IMPRESA | AF27: AZIENDA PROVINCIALE | AO27: 01.16.0 Coltivazione di piante tessili
A28: INDIRIZZO | V28: Grande impresa | AF28: AZIENDA REGIONALE | AO28: 01.16.00 Coltivazione di piante tessili
A29: CAP | V29: Media impresa | AF29: AZIENDA SPECIALE | AO29: 01.19 Coltivazione di altre colture agricole non permanenti
V30: Piccola impresa (escluse microimprese) | AF30: AZIENDA SPECIALE DI CUI AL DLGS 267/2000 | AO30: 01.19.1 Coltivazione di fiori
V31: Piccola impresa | AF31: AZIENDA SPECIALE DI ENTE LOCALE | AO31: 01.19.11 Coltivazione di fiori in piena aria
A32: SEDE OPERATIVA (dell’impresa beneficiaria della formazione, se diversa dalla sede legale) | V32: Micro impresa | AF32: COMUNIONE EREDITARIA | AO32: 01.19.12 Coltivazione di fiori in colture protette fuori suolo
B33: NAZIONE | D33: REGIONE | F33: PROVINCIA | H33: COMUNE | AF33: CONSORZIO | AO33: 01.19.13 Coltivazione di fiori in altre colture protette, escluse colture fuori suolo
AF34: CONSORZIO CON ATTIVITA' ESTERNA | AO34: 01.19.9 Coltivazione di piante da foraggio e di altre colture agricole non permanenti n.c.a.
V35: SETTORE | AF35: CONSORZIO DI CUI AL DLGS 267/2000 | AO35: 01.19.90 Coltivazione di piante da foraggio e di altre colture agricole non permanenti n.c.a.
A36: INDIRIZZO: | V36: GENERALE | AF36: CONSORZIO FIDI | AO36: 01.2 Coltivazione di colture agricole permanenti
A37: CAP | V37: SPECIFICO | AF37: CONSORZIO INTERCOMUNALE | AO37: 01.21 Coltivazione di uva
AF38: CONSORZIO MUNICIPALE | AO38: 01.21.0 Coltivazione di uva
A39: TIPOLOGIA DEL SOGGETTO BENEFICIARIO | AF39: CONSORZIO SENZA ATTIVITA' ESTERNA | AO39: 01.21.00 Coltivazione di uva
V40: RUOLO | AF40: CONTRATTO DI RETE DOTATO DI SOGGETTIVITA' GIURIDICA | AO40: 01.22 Coltivazione di frutta di origine tropicale e subtropicale
...

Sheet Dati impresa unica
A1: BENEFICIARIO 1: | G1: Operazione: | H1: ='Dati sintetici Operazione'!C5 -> 0 | AL1: 01.49.00 - Allevamento di altri animali
A2: ='Dati imprese beneficiarie'!B19 -> 0 | F2: Soggetto Proponente/Capofila: | H2: ='Dati sintetici Operazione'!C12 -> 0 | AL2: 01.49.10 - Allevamento di conigli
F3: tutte le entità controllate (giuridicamente o di fatto) dalla stessa entità devono essere considerate un’impresa unica | S3: TIPOLOGIA DEL SOGGETTO BENEFICIARIO | AC3: FORMA GIURIDICA | AL3: 01.49.20 - Allevamento di animali da pelliccia
A4: IMPRESA UNICA | D4: (da compilare solo nel caso di impresa controllante / controllata) | S4: IMPRESA ISCRITTA AL REGISTRO IMPRESE (con sede legale o sede secondaria in Italia) | AC4: ALTRE FORME | AL4: 01.49.30 - Apicoltura
A5: (inserire l’elenco dei soggetti che costituiscono impresa unica con il soggetto beneficiario ) | S5: SOGGETTO ESTERO senza sede secondaria in Italia | AC5: ALTRO | AL5: 01.49.40 - Bachicoltura
A6: DENOMINAZIONE: | H6: DENOMINAZIONE: | S6: SOGGETTO PUBBLICO | AC6: ASSOCIAZIONE | AL6: 01.49.90 - Allevamento di altri animali nca
A7: 1 | C7: forma giuridica | D7: codice fiscale | F7: partita IVA | G7: Condizione dell’azienda nell’impresa unica | H7: 11 | J7: forma giuridica | K7: codice fiscale | M7: partita IVA | N7: Condizione dell’azienda nell’impresa unica | S7: PROFESSIONISTA O ASSOCIAZIONE DI PROFESSIONISTI | AC7: ASSOCIAZIONE IMPRESA | AL7: 01.50.00 - Coltivazioni agricole associate all'allevamento di animali: attività mista
S8: SOGGETTO DA ISCRIVERE AL REGISTRO IMPRESE | AC8: ASSOCIAZIONE IN PARTECIPAZIONE | AL8: 01.60.00 - ATTIVITÀ DI SUPPORTO ALL'AGRICOLTURA E ATTIVITÀ SUCCESSIVE ALLA RACCOLTA
S9: SOGGETTO NON ISCRIVIBILE AL REGISTRO IMPRESE | AC9: AZIENDA AUTONOMA STATALE | AL9: 01.61.00 - Attività di supporto alla produzione vegetale
A10: DENOMINAZIONE: | H10: DENOMINAZIONE: | AC10: AZIENDA MUNICIPALE | AL10: 01.62.00 - Attività di supporto alla produzione animale (esclusi i servizi veterinari)
A11: 2 | C11: forma giuridica | D11: codice fiscale | F11: partita IVA | G11: Condizione dell’azienda nell’impresa unica | H11: 12 | J11: forma giuridica | K11: codice fiscale | M11: partita IVA | N11: Condizione dell’azienda nell’impresa unica | S11: DIMENSIONE IMPRESA | AC11: AZIENDA PROVINCIALE | AL11: 01.62.01 - Attività dei maniscalchi
S12: Grande impresa | AC12: AZIENDA REGIONALE | AL12: 01.62.09 - Altre attività di supporto alla produzione animale (esclusi i servizi veterinari)
S13: Media impresa | AC13: AZIENDA SPECIALE | AL13: 01.63.00 - Attività che seguono la raccolta
A14: DENOMINAZIONE: | H14: DENOMINAZIONE: | S14: Piccola impresa (escluse microimprese) | AC14: AZIENDA SPECIALE DI CUI AL DLGS 267/2000 | AL14: 01.64.00 - Lavorazione delle sementi per la semina
A15: 3 | C15: forma giuridica | D15: codice fiscale | F15: partita IVA | G15: Condizione dell’azienda nell’impresa unica | H15: 13 | J15: forma giuridica | K15: codice fiscale | M15: partita IVA | N15: Condizione dell’azienda nell’impresa unica | S15: Piccola impresa | AC15: AZIENDA SPECIALE DI ENTE LOCALE | AL15: 01.64.01 - Pulitura e cernita di semi e granaglie
S16: Micro impresa | AC16: COMUNIONE EREDITARIA | AL16: 01.64.09 - Altre lavorazioni delle sementi per la semina
AC17: CONSORZIO | AL17: 01.70.00 - Caccia, cattura di animali e servizi connessi
A18: DENOMINAZIONE: | H18: DENOMINAZIONE: | AC18: CONSORZIO CON ATTIVITA' ESTERNA | AL18: 02.00.00 - SILVICOLTURA ED UTILIZZO DI AREE FORESTALI
A19: 4 | C19: forma giuridica | D19: codice fiscale | F19: partita IVA | G19: Condizione dell’azienda nell’impresa unica | H19: 14 | J19: forma giuridica | K19: codice fiscale | M19: partita IVA | N19: Condizione dell’azienda nell’impresa unica | S19: SETTORE | AC19: CONSORZIO DI CUI AL DLGS 267/2000 | AL19: 02.10.00 - Silvicoltura e altre attività forestali
S20: GENERALE | AC20: CONSORZIO FIDI | AL20: 02.20.00 - Utilizzo di aree forestali
S21: STRADA | AC21: CONSORZIO INTERCOMUNALE | AL21: 02.30.00 - Raccolta di prodotti selvatici non legnosi
A22: DENOMINAZIONE: | H22: DENOMINAZIONE: | AC22: CONSORZIO MUNICIPALE | AL22: 02.40.00 - Servizi di supporto per la silvicoltura
A23: 5 | C23: forma giuridica | D23: codice fiscale | F23: partita IVA | G23: Condizione dell’azienda nell’impresa unica | H23: 15 | J23: forma giuridica | K23: codice fiscale | M23: partita IVA | N23: Condizione dell’azienda nell’impresa unica | AC23: CONSORZIO SENZA ATTIVITA' ESTERNA | AL23: 03.00.00 - PESCA E ACQUACOLTURA
S24: RUOLO | AC24: CONTRATTO DI RETE DOTATO DI SOGGETTIVITA' GIURIDICA | AL24: 03.10.00 - PESCA
S25: Impresa controllante | AC25: COOPERATIVA SOCIALE | AL25: 03.11.00 - Pesca in acque marine e lagunari e servizi connessi
A26: DENOMINAZIONE: | H26: DENOMINAZIONE: | S26: Impresa controllata | AC26: ENTE | AL26: 03.12.00 - Pesca in acque dolci e servizi connessi
A27: 6 | C27: forma giuridica | D27: codice fiscale | F27: partita IVA | G27: Condizione dell’azienda nell’impresa unica | H27: 16 | J27: forma giuridica | K27: codice fiscale | M27: partita IVA | N27: Condizione dell’azienda nell’impresa unica | AC27: ENTE DI CUI ALLA L.R. 21-12-93 N. 88 | AL27: 03.20.00 - ACQUACOLTURA
AC28: ENTE DIRITTO PUBBLICO | AL28: 03.21.00 - Acquacoltura in acqua di mare, salmastra o lagunare e servizi connessi
AC29: ENTE ECCLESIASTICO | AL29: 03.22.00 - Acquacoltura in acque dolci e servizi connessi
A30: DENOMINAZIONE: | H30: DENOMINAZIONE: | AC30: ENTE ECCLESIASTICO CIVILMENTE RICONOSCIUTO | AL30: 05.00.00 - ESTRAZIONE DI CARBONE (ESCLUSA TORBA)
A31: 7 | C31: forma giuridica | D31: codice fiscale | F31: partita IVA | G31: Condizione dell’azienda nell’impresa unica | H31: 17 | J31: forma giuridica | K31: codice fiscale | M31: partita IVA | N31: Condizione dell’azienda nell’impresa unica | AC31: ENTE IMPRESA | AL31: 05.10.00 - Estrazione di antracite e litantrace
AC32: ENTE MORALE | AL32: 05.20.00 - Estrazione di lignite
AC33: ENTE PUBBLICO COMMERCIALE | AL33: 06.00.00 - ESTRAZIONE DI PETROLIO GREGGIO E DI GAS NATURALE
A34: DENOMINAZIONE: | H34: DENOMINAZIONE: | AC34: ENTE PUBBLICO ECONOMICO | AL34: 06.10.00 - Estrazione di petrolio greggio
A35: 8 | C35: forma giuridica | D35: codice fiscale | F35: partita IVA | G35: Condizione dell’azienda nell’impresa unica | H35: 18 | J35: forma giuridica | K35: codice fiscale | M35: partita IVA | N35: Condizione dell’azienda nell’impresa unica | AC35: ENTE SOCIALE | AL35: 06.20.00 - Estrazione di gas naturale
AC36: FONDAZIONE IMPRESA | AL36: 07.00.00 - ESTRAZIONE DI MINERALI METALLIFERI
AC37: GRUPPO EUROPEO DI INTERESSE ECONOMICO | AL37: 07.10.00 - Estrazione di minerali metalliferi ferrosi
A38: DENOMINAZIONE: | H38: DENOMINAZIONE: | AC38: IMPRESA FAMILIARE | AL38: 07.20.00 - ESTRAZIONE DI MINERALI METALLIFERI NON FERROSI
A39: 9 | C39: forma giuridica | D39: codice fiscale | F39: partita IVA | G39: Condizione dell’azienda nell’impresa unica | H39: 19 | J39: forma giuridica | K39: codice fiscale | M39: partita IVA | N39: Condizione dell’azienda nell’impresa unica | AC39: IMPRESA INDIVIDUALE | AL39: 07.21.00 - Estrazione di minerali di uranio e di torio
AC40: ISTITUTO DI CREDITO | AL40: 07.29.00 - Estrazione di altri minerali metalliferi non ferrosi
...

Sheet Articolazione della candidatura
C5: Avviso pubblico rivolto alle imprese per il finanziamento di interventi di Formazione Continua
C6: Programma Regionale Liguria FSE+ 2021-2027 Priorità 1. “Occupazione”, obiettivo specifico 4.4
B12: SOGGETTO PROPONENTE (o Capofila) :
B13: ='Dati sintetici Operazione'!C12 -> 0
B15: Tipologia di attività | C15: Titolo Operazione | D15: Costo complessivo dell’operazione | E15: Finanziamento pubblico richiesto per l’operazione | F15: Denominazione Progetto/i
B16: Iniziative formative aziendali e settoriali di aggiornamento | C16: ='Dati sintetici Operazione'!C5 -> 0 | D16: ='Dati Operazione'!H30 -> 0 | E16: ='Dati Operazione'!H29 -> 0 | K16: DE MINIMIS Regolamento (UE) n. 2831/2023
K17: ESENZIONE Regolamento (UE) Generale n. 651/2014
C23: Regime di aiuti prescelto:
C26: Intensità contributo pubblico:
D29: Luogo e Data
C32: Timbro e firma del legale rappresentante del proponente (capofila)

Sheet Priorità
L2: SÌ
L3: NO
B8: Avviso pubblico rivolto alle imprese Avviso pubblico rivolto alle imprese per il finanziamento di interventi di formazione continua formazione continua
B9: Programma Regionale Liguria FSE+ 2021-2027 Priorità 1. “Occupazione”, obiettivo specifico 4.4
A13: TIPOLOGIA DI ATTIVITÀ
A14: ='Articolazione della candidatura'!B16 -> Iniziative formative aziendali e settoriali di aggiornamento
A16: SOGGETTO PROPONENTE (o Capofila) :
A17: ='Dati sintetici Operazione'!C12 -> 0
A19: OPERAZIONE:
A20: ='Dati sintetici Operazione'!C5 -> 0
A22: Priorità specifica definita nell’Avviso pubblico rivolto alle imprese per il finanziamento di interventi di formazione continua - Programma Regionale Liguria FSE+ 2021-2027 Priorità 1. “Occupazione”, obiettivo specifico 4.4
A24: Lina di Intervento 1 | B24: Attuazione di interventi formativi che favoriscono lo sviluppo di competenze digitali e/o di competenze green e/o volti alla sensibilizzazione sulle tematiche della salute e della sicurezza sul lavoro (ulteriori rispetto alla formazione obbligatoria prevista per legge a carico del datore di lavoro)
A27: Descrivere brevemente, in relazione ai singoli progetti, se e in che modo le attività formative proposte sono riconducibili ad una o più priorità di cui al punto 4 dell’Avviso (max 1000 caratteri)

Sheet Ripartiz All-Imprese-Prog
DE1: CODICI ATECO
DE2: 01.00.00 - COLTIVAZIONI AGRICOLE E PRODUZIONE DI PRODOTTI ANIMALI, CACCIA E SERVIZI CONNESSI
DE3: 01.10.00 - COLTIVAZIONE DI COLTURE AGRICOLE NON PERMANENTI
DE4: 01.11.00 - Coltivazione di cereali (escluso il riso), legumi da granella e semi oleosi
C5: Avviso pubblico rivolto alle imprese per il finanziamento di interventi di Formazione Continua | DE5: 01.11.10 - Coltivazione di cereali (escluso il riso)
C6: Programma Regionale Liguria FSE+ 2021-2027 Priorità 1. “Occupazione”, obiettivo specifico 4.4
DE7: 01.11.20 - Coltivazione di semi oleosi
DE8: 01.11.30 - Coltivazione di legumi da granella
DE9: 01.11.40 - Coltivazioni miste di cereali, legumi da granella e semi oleosi
DE10: 01.12.00 - Coltivazione di riso
DE11: 01.13.00 - Coltivazione di ortaggi e meloni, radici e tuberi
B12: SOGGETTO ATTUATORE: | C12: ='Dati sintetici Operazione'!C12 -> 0 | DE12: 01.13.10 - Coltivazione di ortaggi (inclusi i meloni) in foglia, a fusto, a frutto, in radici, bulbi e tuberi in piena aria (escluse barbabietola da zucchero e patate)
B13: OPERAZIONE: | C13: ='Dati sintetici Operazione'!C5 -> 0 | DE13: 01.13.20 - Coltivazione di ortaggi (inclusi i meloni) in foglia, a fusto, a frutto, in radici, bulbi e tuberi in colture protette (escluse barbabietola da zucchero e patate)
DE14: 01.13.30 - Coltivazione di barbabietola da zucchero
D15: Beneficiario 1 | F15: Beneficiario 2 | H15: Beneficiario 3 | J15: Beneficiario 4 | L15: Beneficiario 5 | N15: Beneficiario 6 | P15: Beneficiario 7 | R15: Beneficiario 8 | T15: Beneficiario 9 | V15: Beneficiario 10 | X15: Beneficiario 11 | Z15: Beneficiario 12 | AB15: Beneficiario 13 | AD15: Beneficiario 14 | AF15: Beneficiario 15 | AH15: Beneficiario 16 | AJ15: Beneficiario 17 | AL15: Beneficiario 18 | AN15: Beneficiario 19 | AP15: Beneficiario 20 | AR15: Beneficiario 21 | AT15: Beneficiario 22 | AV15: Beneficiario 23 | AX15: Beneficiario 24 | AZ15: Beneficiario 25 | BB15: Beneficiario 26 | BD15: Beneficiario 27 | BF15: Beneficiario 28 | BH15: Beneficiario 29 | BJ15: Beneficiario 30 | DE15: 01.13.40 - Coltivazione di patate
A16: Ripartizione contributo pubblico Beneficiari / corsi | D16: ='Dati imprese beneficiarie'!B19 -> 0 | F16: ='Dati imprese beneficiarie'!B68 -> 0 | H16: ='Dati imprese beneficiarie'!B116 -> 0 | J16: ='Dati imprese beneficiarie'!B164 -> 0 | L16: ='Dati sintetici Operazione'!C28 -> 0 | N16: ='Dati sintetici Operazione'!C29 -> 0 | P16: ='Dati sintetici Operazione'!C30 -> 0 | R16: ='Dati sintetici Operazione'!C31 -> 0 | T16: ='Dati sintetici Operazione'!C32 -> 0 | V16: ='Dati sintetici Operazione'!C33 -> 0 | X16: ='Dati sintetici Operazione'!C34 -> 0 | Z16: ='Dati sintetici Operazione'!C35 -> 0 | AB16: ='Dati sintetici Operazione'!C36 -> 0 | AD16: ='Dati sintetici Operazione'!C37 -> 0 | AF16: ='Dati sintetici Operazione'!C38 -> 0 | AH16: =#REF! -> #REF! | AJ16: =#REF! -> #REF! | AL16: =#REF! -> #REF! | AN16: =#REF! -> #REF! | AP16: =#REF! -> #REF! | AR16: =#REF! -> #REF! | AT16: =#REF! -> #REF! | AV16: =#REF! -> #REF! | AX16: =#REF! -> #REF! | AZ16: =#REF! -> #REF! | BB16: =#REF! -> #REF! | BD16: =#REF! -> #REF! | BF16: =#REF! -> #REF! | BH16: =#REF! -> #REF! | BJ16: =#REF! -> #REF! | DE16: 01.14.00 - Coltivazione di canna da zucchero
A17: Titolo progetto | B17: N° allievi progetto | C17: Importo totale contributo pubblico del progetto | D17: N° allievi partecipanti al corso (tenuto conto di eventuali edizioni ripetitive del progetto) | E17: Quota parte Di finanziamento pubblico | F17: N° allievi partecipanti al corso (tenuto conto di eventuali edizioni ripetitive del progetto) | G17: Quota parte Di finanziamento pubblico | H17: N° allievi partecipanti al corso (tenuto conto di eventuali edizioni ripetitive del progetto) | I17: Quota parte Di finanziamento pubblico | J17: N° allievi partecipanti al corso (tenuto conto di eventuali edizioni ripetitive del progetto) | K17: Quota parte Di finanziamento pubblico | L17: N° allievi partecipanti al corso (tenuto conto di eventuali edizioni ripetitive del progetto) | M17: Quota parte Di finanziamento pubblico | N17: N° allievi partecipanti al corso (tenuto conto di eventuali edizioni ripetitive del progetto) | O17: Quota parte Di finanziamento pubblico | P17: N° allievi partecipanti al corso (tenuto conto di eventuali edizioni ripetitive del progetto) | Q17: Quota parte Di finanziamento pubblico | R17: N° allievi partecipanti al corso (tenuto conto di eventuali edizioni ripetitive del progetto) | S17: Quota parte Di finanziamento pubblico | T17: N° allievi partecipanti al corso (tenuto conto di eventuali edizioni ripetitive del progetto) | U17: Quota parte Di finanziamento pubblico | V17: N° allievi partecipanti al corso (tenuto conto di eventuali edizioni ripetitive del progetto) | W17: Quota parte Di finanziamento pubblico | X17: N° allievi partecipanti al corso (tenuto conto di eventuali edizioni ripetitive del progetto) | Y17: Quota parte Di finanziamento pubblico | Z17: N° allievi partecipanti al corso (tenuto conto di eventuali edizioni ripetitive del progetto) | AA17: Quota parte Di finanziamento pubblico | AB17: N° allievi partecipanti al corso (tenuto conto di eventuali edizioni ripetitive del progetto) | AC17: Quota parte Di finanziamento pubblico | AD17: N° allievi partecipanti al corso (tenuto conto di eventuali edizioni ripetitive del progetto) | AE17: Quota parte Di finanziamento pubblico | AF17: N° allievi partecipanti al corso (tenuto conto di eventuali edizioni ripetitive del progetto) | AG17: Quota parte Di finanziamento pubblico | AH17: N° allievi partecipanti al corso (tenuto conto di eventuali edizioni ripetitive del progetto) | AI17: Quota parte Di finanziamento pubblico | AJ17: N° allievi partecipanti al corso (tenuto conto di eventuali edizioni ripetitive del progetto) | AK17: Quota parte Di finanziamento pubblico | AL17: N° allievi partecipanti al corso (tenuto conto di eventuali edizioni ripetitive del progetto) | AM17: Quota parte Di finanziamento pubblico | AN17: N° allievi partecipanti al corso (tenuto conto di eventuali edizioni ripetitive del progetto) | AO17: Quota parte Di finanziamento pubblico | AP17: N° allievi partecipanti al corso (tenuto conto di eventuali edizioni ripetitive del progetto) | AQ17: Quota parte Di finanziamento pubblico | AR17: N° allievi partecipanti al corso (tenuto conto di eventuali edizioni ripetitive del progetto) | AS17: Quota parte Di finanziamento pubblico | AT17: N° allievi partecipanti al corso (tenuto conto di eventuali edizioni ripetitive del progetto) | AU17: Quota parte Di finanziamento pubblico | AV17: N° allievi partecipanti al corso (tenuto conto di eventuali edizioni ripetitive del progetto) | AW17: Quota parte Di finanziamento pubblico | AX17: N° allievi partecipanti al corso (tenuto conto di eventuali edizioni ripetitive del progetto) | AY17: Quota parte Di finanziamento pubblico | AZ17: N° allievi partecipanti al corso (tenuto conto di eventuali edizioni ripetitive del progetto) | BA17: Quota parte Di finanziamento pubblico | BB17: N° allievi partecipanti al corso (tenuto conto di eventuali edizioni ripetitive del progetto) | BC17: Quota parte Di finanziamento pubblico | BD17: N° allievi partecipanti al corso (tenuto conto di eventuali edizioni ripetitive del progetto) | BE17: Quota parte Di finanziamento pubblico | BF17: N° allievi partecipanti al corso (tenuto conto di eventuali edizioni ripetitive del progetto) | BG17: Quota parte Di finanziamento pubblico | BH17: N° allievi partecipanti al corso (tenuto conto di eventuali edizioni ripetitive del progetto) | BI17: Quota parte Di finanziamento pubblico | BJ17: N° allievi partecipanti al corso (tenuto conto di eventuali edizioni ripetitive del progetto) | BK17: Quota parte Di finanziamento pubblico | BO17: SE UTILE AGGIUNGERE ULTERIORI DATI RELATIVE ALLE IMPRESE BENEFICIARIE | DD17: 01.15.00 - Coltivazione di tabacco
A18: ='Articolazione della candidatura'!F16 -> 0 | B18: =D18+F18+H18+J18+L18+N18+P18+R18+T18+V18+X18+Z18+AB18+AD18+AF18+AH18+AJ18+AL18+AN18+AP18+AR18+AT18+AV18+AX18+AZ18+BB18+BD18+BF18+BH18+BJ18 -> 0 | C18: ='Ucs Prog 1'!$F$10 -> 0 | E18: =IF(OR(B18=0,C18=0),0,(C18/B18)*D18) -> 0 | G18: =IF(OR(C18=0,B18=0),0,(C18/B18)*F18) -> 0 | I18: =IF(OR(C18=0,B18=0),0,(C18/B18)*H18) -> 0 | K18: =IF(OR(C18=0,B18=0),0,(C18/B18)*J18) -> 0 | M18: =IF(OR(E18=0,D18=0),0,(E18/D18)*L18) -> 0 | O18: =IF(OR(G18=0,F18=0),0,(G18/F18)*N18) -> 0 | Q18: =IF(OR(I18=0,H18=0),0,(I18/H18)*P18) -> 0 | S18: =IF(OR(K18=0,J18=0),0,(K18/J18)*R18) -> 0 | U18: =IF(OR(M18=0,L18=0),0,(M18/L18)*T18) -> 0 | W18: =IF(OR(O18=0,N18=0),0,(O18/N18)*V18) -> 0 | Y18: =IF(OR(Q18=0,P18=0),0,(Q18/P18)*X18) -> 0 | AA18: =IF(OR(S18=0,R18=0),0,(S18/R18)*Z18) -> 0 | AC18: =IF(OR(U18=0,T18=0),0,(U18/T18)*AB18) -> 0 | AE18: =IF(OR(W18=0,V18=0),0,(W18/V18)*AD18) -> 0 | AG18: =IF(OR(Y18=0,X18=0),0,(Y18/X18)*AF18) -> 0 | AI18: =IF(OR(AA18=0,Z18=0),0,(AA18/Z18)*AH18) -> 0 | AK18: =IF(OR(AC18=0,AB18=0),0,(AC18/AB18)*AJ18) -> 0 | AM18: =IF(OR(AE18=0,AD18=0),0,(AE18/AD18)*AL18) -> 0 | AO18: =IF(OR(AG18=0,AF18=0),0,(AG18/AF18)*AN18) -> 0 | AQ18: =IF(OR(AI18=0,AH18=0),0,(AI18/AH18)*AP18) -> 0 | AS18: =IF(OR(AK18=0,AJ18=0),0,(AK18/AJ18)*AR18) -> 0 | AU18: =IF(OR(AM18=0,AL18=0),0,(AM18/AL18)*AT18) -> 0 | AW18: =IF(OR(AO18=0,AN18=0),0,(AO18/AN18)*AV18) -> 0 | AY18: =IF(OR(AQ18=0,AP18=0),0,(AQ18/AP18)*AX18) -> 0 | BA18: =IF(OR(AS18=0,AR18=0),0,(AS18/AR18)*AZ18) -> 0 | BC18: =IF(OR(AU18=0,AT18=0),0,(AU18/AT18)*BB18) -> 0 | BE18: =IF(OR(AW18=0,AV18=0),0,(AW18/AV18)*BD18) -> 0 | BG18: =IF(OR(AY18=0,AX18=0),0,(AY18/AX18)*BF18) -> 0 | BI18: =IF(OR(BA18=0,AZ18=0),0,(BA18/AZ18)*BH18) -> 0 | BK18: =IF(OR(BC18=0,BB18=0),0,(BC18/BB18)*BJ18) -> 0 | DD18: 01.16.00 - Coltivazione di piante per la preparazione di fibre tessili
A19: ='Articolazione della candidatura'!F17 -> 0 | B19: =D19+F19+H19+J19+L19+N19+P19+R19+T19+V19+X19+Z19+AB19+AD19+AF19+AH19+AJ19+AL19+AN19+AP19+AR19+AT19+AV19+AX19+AZ19+BB19+BD19+BF19+BH19+BJ19 -> 0 | C19: ='Ucs Prog 2'!$F$10 -> 0 | E19: =IF(OR(B19=0,C19=0),0,(C19/B19)*D19) -> 0 | G19: =IF(OR(C19=0,B19=0),0,(C19/B19)*F19) -> 0 | I19: =IF(OR(C19=0,B19=0),0,(C19/B19)*H19) -> 0 | K19: =IF(OR(C19=0,B19=0),0,(C19/B19)*J19) -> 0 | M19: =IF(OR(E19=0,D19=0),0,(E19/D19)*L19) -> 0 | O19: =IF(OR(G19=0,F19=0),0,(G19/F19)*N19) -> 0 | Q19: =IF(OR(I19=0,H19=0),0,(I19/H19)*P19) -> 0 | S19: =IF(OR(K19=0,J19=0),0,(K19/J19)*R19) -> 0 | U19: =IF(OR(M19=0,L19=0),0,(M19/L19)*T19) -> 0 | W19: =IF(OR(O19=0,N19=0),0,(O19/N19)*V19) -> 0 | Y19: =IF(OR(Q19=0,P19=0),0,(Q19/P19)*X19) -> 0 | AA19: =IF(OR(S19=0,R19=0),0,(S19/R19)*Z19) -> 0 | AC19: =IF(OR(U19=0,T19=0),0,(U19/T19)*AB19) -> 0 | AE19: =IF(OR(W19=0,V19=0),0,(W19/V19)*AD19) -> 0 | AG19: =IF(OR(Y19=0,X19=0),0,(Y19/X19)*AF19) -> 0 | AI19: =IF(OR(AA19=0,Z19=0),0,(AA19/Z19)*AH19) -> 0 | AK19: =IF(OR(AC19=0,AB19=0),0,(AC19/AB19)*AJ19) -> 0 | AM19: =IF(OR(AE19=0,AD19=0),0,(AE19/AD19)*AL19) -> 0 | AO19: =IF(OR(AG19=0,AF19=0),0,(AG19/AF19)*AN19) -> 0 | AQ19: =IF(OR(AI19=0,AH19=0),0,(AI19/AH19)*AP19) -> 0 | AS19: =IF(OR(AK19=0,AJ19=0),0,(AK19/AJ19)*AR19) -> 0 | AU19: =IF(OR(AM19=0,AL19=0),0,(AM19/AL19)*AT19) -> 0 | AW19: =IF(OR(AO19=0,AN19=0),0,(AO19/AN19)*AV19) -> 0 | AY19: =IF(OR(AQ19=0,AP19=0),0,(AQ19/AP19)*AX19) -> 0 | BA19: =IF(OR(AS19=0,AR19=0),0,(AS19/AR19)*AZ19) -> 0 | BC19: =IF(OR(AU19=0,AT19=0),0,(AU19/AT19)*BB19) -> 0 | BE19: =IF(OR(AW19=0,AV19=0),0,(AW19/AV19)*BD19) -> 0 | BG19: =IF(OR(AY19=0,AX19=0),0,(AY19/AX19)*BF19) -> 0 | BI19: =IF(OR(BA19=0,AZ19=0),0,(BA19/AZ19)*BH19) -> 0 | BK19: =IF(OR(BC19=0,BB19=0),0,(BC19/BB19)*BJ19) -> 0 | DD19: 01.19.00 - Floricoltura e coltivazione di altre colture non permanenti
A20: ='Articolazione della candidatura'!F18 -> 0 | B20: =D20+F20+H20+J20+L20+N20+P20+R20+T20+V20+X20+Z20+AB20+AD20+AF20+AH20+AJ20+AL20+AN20+AP20+AR20+AT20+AV20+AX20+AZ20+BB20+BD20+BF20+BH20+BJ20 -> 0 | C20: ='Ucs Prog 3'!$F$10 -> 0 | E20: =IF(OR(B20=0,C20=0),0,(C20/B20)*D20) -> 0 | G20: =IF(OR(C20=0,B20=0),0,(C20/B20)*F20) -> 0 | I20: =IF(OR(C20=0,B20=0),0,(C20/B20)*H20) -> 0 | K20: =IF(OR(C20=0,B20=0),0,(C20/B20)*J20) -> 0 | M20: =IF(OR(E20=0,D20=0),0,(E20/D20)*L20) -> 0 | O20: =IF(OR(G20=0,F20=0),0,(G20/F20)*N20) -> 0 | Q20: =IF(OR(I20=0,H20=0),0,(I20/H20)*P20) -> 0 | S20: =IF(OR(K20=0,J20=0),0,(K20/J20)*R20) -> 0 | U20: =IF(OR(M20=0,L20=0),0,(M20/L20)*T20) -> 0 | W20: =IF(OR(O20=0,N20=0),0,(O20/N20)*V20) -> 0 | Y20: =IF(OR(Q20=0,P20=0),0,(Q20/P20)*X20) -> 0 | AA20: =IF(OR(S20=0,R20=0),0,(S20/R20)*Z20) -> 0 | AC20: =IF(OR(U20=0,T20=0),0,(U20/T20)*AB20) -> 0 | AE20: =IF(OR(W20=0,V20=0),0,(W20/V20)*AD20) -> 0 | AG20: =IF(OR(Y20=0,X20=0),0,(Y20/X20)*AF20) -> 0 | AI20: =IF(OR(AA20=0,Z20=0),0,(AA20/Z20)*AH20) -> 0 | AK20: =IF(OR(AC20=0,AB20=0),0,(AC20/AB20)*AJ20) -> 0 | AM20: =IF(OR(AE20=0,AD20=0),0,(AE20/AD20)*AL20) -> 0 | AO20: =IF(OR(AG20=0,AF20=0),0,(AG20/AF20)*AN20) -> 0 | AQ20: =IF(OR(AI20=0,AH20=0),0,(AI20/AH20)*AP20) -> 0 | AS20: =IF(OR(AK20=0,AJ20=0),0,(AK20/AJ20)*AR20) -> 0 | AU20: =IF(OR(AM20=0,AL20=0),0,(AM20/AL20)*AT20) -> 0 | AW20: =IF(OR(AO20=0,AN20=0),0,(AO20/AN20)*AV20) -> 0 | AY20: =IF(OR(AQ20=0,AP20=0),0,(AQ20/AP20)*AX20) -> 0 | BA20: =IF(OR(AS20=0,AR20=0),0,(AS20/AR20)*AZ20) -> 0 | BC20: =IF(OR(AU20=0,AT20=0),0,(AU20/AT20)*BB20) -> 0 | BE20: =IF(OR(AW20=0,AV20=0),0,(AW20/AV20)*BD20) -> 0 | BG20: =IF(OR(AY20=0,AX20=0),0,(AY20/AX20)*BF20) -> 0 | BI20: =IF(OR(BA20=0,AZ20=0),0,(BA20/AZ20)*BH20) -> 0 | BK20: =IF(OR(BC20=0,BB20=0),0,(BC20/BB20)*BJ20) -> 0 | DD20: 01.19.10 - Coltivazione di fiori in piena aria
A21: ='Articolazione della candidatura'!F19 -> 0 | B21: =D21+F21+H21+J21+L21+N21+P21+R21+T21+V21+X21+Z21+AB21+AD21+AF21+AH21+AJ21+AL21+AN21+AP21+AR21+AT21+AV21+AX21+AZ21+BB21+BD21+BF21+BH21+BJ21 -> 0 | C21: ='Ucs Prog 4'!$F$10 -> 0 | E21: =IF(OR(B21=0,C21=0),0,(C21/B21)*D21) -> 0 | G21: =IF(OR(C21=0,B21=0),0,(C21/B21)*F21) -> 0 | I21: =IF(OR(C21=0,B21=0),0,(C21/B21)*H21) -> 0 | K21: =IF(OR(C21=0,B21=0),0,(C21/B21)*J21) -> 0 | M21: =IF(OR(E21=0,D21=0),0,(E21/D21)*L21) -> 0 | O21: =IF(OR(G21=0,F21=0),0,(G21/F21)*N21) -> 0 | Q21: =IF(OR(I21=0,H21=0),0,(I21/H21)*P21) -> 0 | S21: =IF(OR(K21=0,J21=0),0,(K21/J21)*R21) -> 0 | U21: =IF(OR(M21=0,L21=0),0,(M21/L21)*T21) -> 0 | W21: =IF(OR(O21=0,N21=0),0,(O21/N21)*V21) -> 0 | Y21: =IF(OR(Q21=0,P21=0),0,(Q21/P21)*X21) -> 0 | AA21: =IF(OR(S21=0,R21=0),0,(S21/R21)*Z21) -> 0 | AC21: =IF(OR(U21=0,T21=0),0,(U21/T21)*AB21) -> 0 | AE21: =IF(OR(W21=0,V21=0),0,(W21/V21)*AD21) -> 0 | AG21: =IF(OR(Y21=0,X21=0),0,(Y21/X21)*AF21) -> 0 | AI21: =IF(OR(AA21=0,Z21=0),0,(AA21/Z21)*AH21) -> 0 | AK21: =IF(OR(AC21=0,AB21=0),0,(AC21/AB21)*AJ21) -> 0 | AM21: =IF(OR(AE21=0,AD21=0),0,(AE21/AD21)*AL21) -> 0 | AO21: =IF(OR(AG21=0,AF21=0),0,(AG21/AF21)*AN21) -> 0 | AQ21: =IF(OR(AI21=0,AH21=0),0,(AI21/AH21)*AP21) -> 0 | AS21: =IF(OR(AK21=0,AJ21=0),0,(AK21/AJ21)*AR21) -> 0 | AU21: =IF(OR(AM21=0,AL21=0),0,(AM21/AL21)*AT21) -> 0 | AW21: =IF(OR(AO21=0,AN21=0),0,(AO21/AN21)*AV21) -> 0 | AY21: =IF(OR(AQ21=0,AP21=0),0,(AQ21/AP21)*AX21) -> 0 | BA21: =IF(OR(AS21=0,AR21=0),0,(AS21/AR21)*AZ21) -> 0 | BC21: =IF(OR(AU21=0,AT21=0),0,(AU21/AT21)*BB21) -> 0 | BE21: =IF(OR(AW21=0,AV21=0),0,(AW21/AV21)*BD21) -> 0 | BG21: =IF(OR(AY21=0,AX21=0),0,(AY21/AX21)*BF21) -> 0 | BI21: =IF(OR(BA21=0,AZ21=0),0,(BA21/AZ21)*BH21) -> 0 | BK21: =IF(OR(BC21=0,BB21=0),0,(BC21/BB21)*BJ21) -> 0 | DD21: 01.19.20 - Coltivazione di fiori in colture protette
A22: ='Articolazione della candidatura'!F20 -> 0 | B22: =D22+F22+H22+J22+L22+N22+P22+R22+T22+V22+X22+Z22+AB22+AD22+AF22+AH22+AJ22+AL22+AN22+AP22+AR22+AT22+AV22+AX22+AZ22+BB22+BD22+BF22+BH22+BJ22 -> 0 | C22: ='Ucs Prog 5'!$F$10 -> 0 | E22: =IF(OR(B22=0,C22=0),0,(C22/B22)*D22) -> 0 | G22: =IF(OR(C22=0,B22=0),0,(C22/B22)*F22) -> 0 | I22: =IF(OR(C22=0,B22=0),0,(C22/B22)*H22) -> 0 | K22: =IF(OR(C22=0,B22=0),0,(C22/B22)*J22) -> 0 | M22: =IF(OR(E22=0,D22=0),0,(E22/D22)*L22) -> 0 | O22: =IF(OR(G22=0,F22=0),0,(G22/F22)*N22) -> 0 | Q22: =IF(OR(I22=0,H22=0),0,(I22/H22)*P22) -> 0 | S22: =IF(OR(K22=0,J22=0),0,(K22/J22)*R22) -> 0 | U22: =IF(OR(M22=0,L22=0),0,(M22/L22)*T22) -> 0 | W22: =IF(OR(O22=0,N22=0),0,(O22/N22)*V22) -> 0 | Y22: =IF(OR(Q22=0,P22=0),0,(Q22/P22)*X22) -> 0 | AA22: =IF(OR(S22=0,R22=0),0,(S22/R22)*Z22) -> 0 | AC22: =IF(OR(U22=0,T22=0),0,(U22/T22)*AB22) -> 0 | AE22: =IF(OR(W22=0,V22=0),0,(W22/V22)*AD22) -> 0 | AG22: =IF(OR(Y22=0,X22=0),0,(Y22/X22)*AF22) -> 0 | AI22: =IF(OR(AA22=0,Z22=0),0,(AA22/Z22)*AH22) -> 0 | AK22: =IF(OR(AC22=0,AB22=0),0,(AC22/AB22)*AJ22) -> 0 | AM22: =IF(OR(AE22=0,AD22=0),0,(AE22/AD22)*AL22) -> 0 | AO22: =IF(OR(AG22=0,AF22=0),0,(AG22/AF22)*AN22) -> 0 | AQ22: =IF(OR(AI22=0,AH22=0),0,(AI22/AH22)*AP22) -> 0 | AS22: =IF(OR(AK22=0,AJ22=0),0,(AK22/AJ22)*AR22) -> 0 | AU22: =IF(OR(AM22=0,AL22=0),0,(AM22/AL22)*AT22) -> 0 | AW22: =IF(OR(AO22=0,AN22=0),0,(AO22/AN22)*AV22) -> 0 | AY22: =IF(OR(AQ22=0,AP22=0),0,(AQ22/AP22)*AX22) -> 0 | BA22: =IF(OR(AS22=0,AR22=0),0,(AS22/AR22)*AZ22) -> 0 | BC22: =IF(OR(AU22=0,AT22=0),0,(AU22/AT22)*BB22) -> 0 | BE22: =IF(OR(AW22=0,AV22=0),0,(AW22/AV22)*BD22) -> 0 | BG22: =IF(OR(AY22=0,AX22=0),0,(AY22/AX22)*BF22) -> 0 | BI22: =IF(OR(BA22=0,AZ22=0),0,(BA22/AZ22)*BH22) -> 0 | BK22: =IF(OR(BC22=0,BB22=0),0,(BC22/BB22)*BJ22) -> 0 | DD22: 01.19.90 - Coltivazione di piante da foraggio e di altre colture non permanenti
C23: =SUM(C18:C22) -> 0 | E23: =SUM(E18:E22) -> 0 | G23: =SUM(G18:G22) -> 0 | I23: =SUM(I18:I22) -> 0 | K23: =SUM(K18:K22) -> 0 | M23: =SUM(M18:M22) -> 0 | O23: =SUM(O18:O22) -> 0 | Q23: =SUM(Q18:Q22) -> 0 | S23: =SUM(S18:S22) -> 0 | U23: =SUM(U18:U22) -> 0 | W23: =SUM(W18:W22) -> 0 | Y23: =SUM(Y18:Y22) -> 0 | AA23: =SUM(AA18:AA22) -> 0 | AC23: =SUM(AC18:AC22) -> 0 | AE23: =SUM(AE18:AE22) -> 0 | AG23: =SUM(AG18:AG22) -> 0 | AI23: =SUM(AI18:AI22) -> 0 | AK23: =SUM(AK18:AK22) -> 0 | AM23: =SUM(AM18:AM22) -> 0 | AO23: =SUM(AO18:AO22) -> 0 | AQ23: =SUM(AQ18:AQ22) -> 0 | AS23: =SUM(AS18:AS22) -> 0 | AU23: =SUM(AU18:AU22) -> 0 | AW23: =SUM(AW18:AW22) -> 0 | AY23: =SUM(AY18:AY22) -> 0 | BA23: =SUM(BA18:BA22) -> 0 | BC23: =SUM(BC18:BC22) -> 0 | BE23: =SUM(BE18:BE22) -> 0 | BG23: =SUM(BG18:BG22) -> 0 | BI23: =SUM(BI18:BI22) -> 0 | BK23: =SUM(BK18:BK22) -> 0 | DE23: 01.20.00 - COLTIVAZIONE DI COLTURE PERMANENTI
DE24: 01.45.00 - Allevamento di ovini e caprini
DE25: 23.19.10 - Fabbricazione di vetrerie per laboratori, per uso igienico, per farmacia
A26: Inserire per ciascun beneficiario il numero complessivo di partecipanti per ciascun progetto previsto, tenuto conto ai fini di tale calcolo di eventuali edizioni ripetitive del corso | DE26: 23.19.20 - Lavorazione di vetro a mano e a soffio artistico
DE28: 23.19.90 - Fabbricazione di altri prodotti in vetro (inclusa la vetreria tecnica)
DE29: 23.20.00 - Fabbricazione di prodotti refrattari
A30: Timbro e firma del legale rappresentante del proponente (capofila) | DE30: 23.30.00 - FABBRICAZIONE DI MATERIALI DA COSTRUZIONE IN TERRACOTTA
DE31: 23.31.00 - Fabbricazione di piastrelle in ceramica per pavimenti e rivestimenti
DE32: 23.32.00 - Fabbricazione di mattoni, tegole ed altri prodotti per l'edilizia in terracotta
DE33: 23.40.00 - FABBRICAZIONE DI ALTRI PRODOTTI IN PORCELLANA E IN CERAMICA
DE34: 23.41.00 - Fabbricazione di prodotti in ceramica per usi domestici e ornamentali
DE35: 23.42.00 - Fabbricazione di articoli sanitari in ceramica
DE36: 23.43.00 - Fabbricazione di isolatori e di pezzi isolanti in ceramica
DE37: 23.44.00 - Fabbricazione di altri prodotti in ceramica per uso tecnico e industriale
DE38: 23.49.00 - Fabbricazione di altri prodotti in ceramica
DE39: 23.50.00 - PRODUZIONE DI CEMENTO, CALCE E GESSO
DE40: 23.51.00 - Produzione di cemento
DE41: 23.52.00 - Produzione di calce e gesso
...

Sheet Dati Operazione
B8: Avviso pubblico rivolto alle imprese per il finanziamento di interventi di Formazione Continua
B9: Programma Regionale Liguria FSE+ 2021-2027 Priorità 1. “Occupazione”, obiettivo specifico 4.4
A13: TIPOLOGIA DI ATTIVITÀ
A14: ='Articolazione della candidatura'!B16 -> Iniziative formative aziendali e settoriali di aggiornamento
A16: SOGGETTO PROPONENTE (o Capofila) :
A17: ='Dati sintetici Operazione'!C12 -> 0
A18: OPERAZIONE:
A19: ='Dati sintetici Operazione'!C5 -> 0
A22: n. | B22: Titolo progetto | C22: N° edizioni | D22: durata in ore (per ediz) | E22: N° allievi (per ediz) | F22: N° complessivo allievi progetto | G22: Importo totale contributo pubblico del progetto | H22: Totale generale costi del progetto | J22: NOTA BENE:
A23: 1 | B23: ='Articolazione della candidatura'!F16 -> 0 | E23: =IF(OR(F23=0,C23=0),0,_xlfn.FLOOR.MATH(F23/C23,1,0)) -> 0 | F23: ='Ripartiz All-Imprese-Prog'!B18 -> 0 | G23: ='Ucs Prog 1'!F10 -> 0 | H23: ='Ucs Prog 1'!F13 -> 0 | J23: Inserire per ciascun progetto il n. di edizioni previste (celle C23÷C27) e per ciascuna edizione il n. di ore(celle D23÷D27). Il foglio calcola automaticamente, arrotondando per difetto, il numero medio di allievi per edizione (celle E23÷E27) attribuiti dal proponente (nel foglio “Ripartiz All-Imprese-Prog”) per ciascuna impresa e ciascun progetto. In merito al numero di allievi per edizione si rammentano i vincoli indicati al Paragrafo 4 dell’Avviso.
A24: 2 | B24: ='Articolazione della candidatura'!F17 -> 0 | E24: =IF(OR(F24=0,C24=0),0,_xlfn.FLOOR.MATH(F24/C24,1,0)) -> 0 | F24: ='Ripartiz All-Imprese-Prog'!B19 -> 0 | G24: ='Ucs Prog 2'!$F$10 -> 0 | H24: ='Ucs Prog 2'!F13 -> 0
A25: 3 | B25: ='Articolazione della candidatura'!F18 -> 0 | E25: =IF(OR(F25=0,C25=0),0,_xlfn.FLOOR.MATH(F25/C25,1,0)) -> 0 | F25: ='Ripartiz All-Imprese-Prog'!B20 -> 0 | G25: ='Ucs Prog 3'!$F$10 -> 0 | H25: ='Ucs Prog 3'!F13 -> 0
A26: 4 | B26: ='Articolazione della candidatura'!F19 -> 0 | E26: =IF(OR(F26=0,C26=0),0,_xlfn.FLOOR.MATH(F26/C26,1,0)) -> 0 | F26: ='Ripartiz All-Imprese-Prog'!B21 -> 0 | G26: ='Ucs Prog 4'!$F$10 -> 0 | H26: ='Ucs Prog 4'!F13 -> 0
A27: 5 | B27: ='Articolazione della candidatura'!F20 -> 0 | E27: =IF(OR(F27=0,C27=0),0,_xlfn.FLOOR.MATH(F27/C27,1,0)) -> 0 | F27: ='Ripartiz All-Imprese-Prog'!B22 -> 0 | G27: ='Ucs Prog 5'!$F$10 -> 0 | H27: ='Ucs Prog 5'!F13 -> 0
G29: Totale contributo pubblico richiesto per l’Operazione: | H29: =G23+G24+G25+G26+G27 -> 0
G30: Costo totale Operazione | H30: =H23+H24+H25+H26+H27 -> 0
F32: Regime di aiuti prescelto:
F33: ='Articolazione della candidatura'!C24 -> 0
F35: Intensità contributo pubblico:
F36: ='Articolazione della candidatura'!C27 -> 0

Sheet Ucs Prog 1
A1: Calcolo importo UCS - Iniziative formative aziendali e settoriali di aggiornamento
B4: ='Articolazione della candidatura'!F16 -> 0
B5: 16.a | C5: Importo UCS | D5: Unità a cui si applica l’UCS | E5: N° Unità | F5: Importo pubblico complessivo (Euro)
B6: 1 | C6: 87 | D6: Ora formazione | E6: ='Dati Operazione'!D23 -> 0 | F6: =C6*E6 -> 0
B7: 2 | C7: 13 | D7: Ora Destinatario | E7: ='Dati Operazione'!E23*'Dati Operazione'!D23 -> 0 | F7: =C7*E7 -> 0
B8: 3 | E8: Subtotale | F8: =F6+F7 -> 0
B9: 4 | E9: N°Edizioni | F9: ='Dati Operazione'!C23 -> 0
B10: 5 | E10: Totale Corso (subtotale x N° Edizioni) | F10: =F9*F8 -> 0
B12: 16.b Eventuale quota di cofinanziamento privato ai sensi del Regolamento in esenzione n. 651/2014
B13: Costo complessivo del progetto | F13: =F10+F12 -> 0

Sheet Ucs Prog 2
A1: Calcolo importo UCS - Iniziative formative aziendali e settoriali di aggiornamento
B4: ='Articolazione della candidatura'!F17 -> 0
B5: 16.a | C5: Importo UCS | D5: Unità a cui si applica l’UCS | E5: N° Unità | F5: Importo pubblico complessivo (Euro)
B6: 1 | C6: 87 | D6: Ora formazione | E6: ='Dati Operazione'!D24 -> 0 | F6: =C6*E6 -> 0
B7: 2 | C7: 13 | D7: Ora Destinatario | E7: ='Dati Operazione'!E24*'Dati Operazione'!D24 -> 0 | F7: =C7*E7 -> 0
B8: 3 | E8: Subtotale | F8: =F6+F7 -> 0
B9: 4 | E9: N°Edizioni | F9: ='Dati Operazione'!C24 -> 0
B10: 5 | E10: Totale Corso (subtotale x N° Edizioni) | F10: =F9*F8 -> 0
B12: 16.b Eventuale quota di cofinanziamento privato ai sensi del Regolamento in esenzione n. 651/2014
B13: Costo complessivo del corso | F13: =F10+F12 -> 0

Sheet Ucs Prog 3
A1: Calcolo importo UCS - Iniziative formative aziendali e settoriali di aggiornamento
B4: ='Articolazione della candidatura'!F18 -> 0
B5: 16.a | C5: Importo UCS | D5: Unità a cui si applica l’UCS | E5: N° Unità | F5: Importo pubblico complessivo (Euro)
B6: 1 | C6: 87 | D6: Ora formazione | E6: ='Dati Operazione'!D25 -> 0 | F6: =C6*E6 -> 0
B7: 2 | C7: 13 | D7: Ora Destinatario | E7: ='Dati Operazione'!E25*'Dati Operazione'!D25 -> 0 | F7: =C7*E7 -> 0
B8: 3 | E8: Subtotale | F8: =F6+F7 -> 0
B9: 4 | E9: N°Edizioni | F9: ='Dati Operazione'!C25 -> 0
B10: 5 | E10: Totale Corso (subtotale x N° Edizioni) | F10: =F9*F8 -> 0
B12: 16.b Eventuale quota di cofinanziamento privato ai sensi del Regolamento in esenzione n. 651/2014
B13: Costo complessivo del corso | F13: =F10+F12 -> 0

Sheet Ucs Prog 4
A1: Calcolo importo UCS - Iniziative formative aziendali e settoriali di aggiornamento
B4: ='Articolazione della candidatura'!F19 -> 0
B5: 16.a | C5: Importo UCS | D5: Unità a cui si applica l’UCS | E5: N° Unità | F5: Importo pubblico complessivo (Euro)
B6: 1 | C6: 87 | D6: Ora formazione | E6: ='Dati Operazione'!D26 -> 0 | F6: =C6*E6 -> 0
B7: 2 | C7: 13 | D7: Ora Destinatario | E7: ='Dati Operazione'!E26*'Dati Operazione'!D26 -> 0 | F7: =C7*E7 -> 0
B8: 3 | E8: Subtotale | F8: =F6+F7 -> 0
B9: 4 | E9: N°Edizioni | F9: ='Dati Operazione'!C26 -> 0
B10: 5 | E10: Totale Corso (subtotale x N° Edizioni) | F10: =F9*F8 -> 0
B12: 16.b Eventuale quota di cofinanziamento privato ai sensi del Regolamento in esenzione n. 651/2014
B13: Costo complessivo del corso | F13: =F10+F12 -> 0

Sheet Ucs Prog 5
A1: Calcolo importo UCS - Iniziative formative aziendali e settoriali di aggiornamento
B4: ='Articolazione della candidatura'!F20 -> 0
B5: 16.a | C5: Importo UCS | D5: Unità a cui si applica l’UCS | E5: N° Unità | F5: Importo pubblico complessivo (Euro)
B6: 1 | C6: 87 | D6: Ora formazione | E6: ='Dati Operazione'!D27 -> 0 | F6: =C6*E6 -> 0
B7: 2 | C7: 13 | D7: Ora Destinatario | E7: ='Dati Operazione'!E27*'Dati Operazione'!D27 -> 0 | F7: =C7*E7 -> 0
B8: 3 | E8: Subtotale | F8: =F6+F7 -> 0
B9: 4 | E9: N°Edizioni | F9: ='Dati Operazione'!C27 -> 0
B10: 5 | E10: Totale Corso (subtotale x N° Edizioni) | F10: =F9*F8 -> 0
B12: 16.b Eventuale quota di cofinanziamento privato ai sensi del Regolamento in esenzione n. 651/2014
B13: Costo complessivo del corso | F13: =F10+F12 -> 0

Sheet Suddivisione prevent
B8: Avviso pubblico rivolto alle imprese Avviso pubblico rivolto alle imprese per il finanziamento di interventi di formazione continua formazione continua
B9: Programma Regionale Liguria FSE+ 2021-2027 Priorità 1. “Occupazione”, obiettivo specifico 4.4
B13: TIPOLOGIA DI ATTIVITÀ
B14: ='Articolazione della candidatura'!B16 -> Iniziative formative aziendali e settoriali di aggiornamento
B16: SOGGETTO PROPONENTE (o Capofila):
B17: ='Dati sintetici Operazione'!C12 -> 0
B19: OPERAZIONE:
B20: ='Dati sintetici Operazione'!C5 -> 0
A22: Progetti | C22: Importo totale del progetto | D22: % progetto sul totale operazione | E22: Eventuale cofinanz.to privato | F22: ='Dati sintetici Operazione'!C12 -> 0 | G22: ='Dati sintetici Operazione'!C24 -> 0 | H22: ='Dati sintetici Operazione'!C25 -> 0 | I22: ='Dati sintetici Operazione'!C26 -> 0 | J22: ='Dati sintetici Operazione'!C27 -> 0 | K22: ='Dati sintetici Operazione'!C28 -> 0 | L22: ='Dati sintetici Operazione'!C29 -> 0 | M22: ='Dati sintetici Operazione'!C30 -> 0 | N22: ='Dati sintetici Operazione'!C31 -> 0 | O22: ='Dati sintetici Operazione'!C32 -> 0 | P22: ='Dati sintetici Operazione'!C33 -> 0 | Q22: ='Dati sintetici Operazione'!C34 -> 0 | R22: ='Dati sintetici Operazione'!C35 -> 0 | S22: ='Dati sintetici Operazione'!C36 -> 0 | T22: ='Dati sintetici Operazione'!C37 -> 0 | U22: ='Dati sintetici Operazione'!C38 -> 0
A23: 1 | B23: ='Articolazione della candidatura'!F16 -> 0 | C23: ='Dati Operazione'!H23 -> 0 | D23: =C23/C28*100 -> #DIV/0! | E23: ='Ucs Prog 1'!F12 -> 0
A24: 2 | B24: ='Articolazione della candidatura'!F17 -> 0 | C24: ='Dati Operazione'!H24 -> 0 | D24: =C24/C28*100 -> #DIV/0! | E24: ='Ucs Prog 2'!F12 -> 0 | Y24: SE UTILE AGGIUNGERE ULTERIORI DATI RELATIVE ALLE IMPRESE BENEFICIARIE
A25: 3 | B25: ='Articolazione della candidatura'!F18 -> 0 | C25: ='Dati Operazione'!H25 -> 0 | D25: =C25/C28*100 -> #DIV/0! | E25: ='Ucs Prog 3'!F12 -> 0
A26: 4 | B26: ='Articolazione della candidatura'!F19 -> 0 | C26: ='Dati Operazione'!H26 -> 0 | D26: =C26/C28*100 -> #DIV/0! | E26: ='Ucs Prog 4'!F12 -> 0
A27: 5 | B27: ='Articolazione della candidatura'!F20 -> 0 | C27: ='Dati Operazione'!H27 -> 0 | D27: =C27/C28*100 -> #DIV/0! | E27: ='Ucs Prog 5'!F12 -> 0
B28: Totale | C28: =SUM(C23:C27) -> 0 | D28: =SUM(D23:D27) -> #DIV/0! | E28: =SUM(E23:E27) -> 0 | F28: =SUM(F23:F27) -> 0 | G28: =SUM(G23:G27) -> 0 | H28: =SUM(H23:H27) -> 0 | I28: =SUM(I23:I27) -> 0 | J28: =SUM(J23:J27) -> 0 | ... U28: =SUM(U23:U27) -> 0
B29: % partner sul totale operazione | F29: =F28/$C$28*100 -> #DIV/0! | G29: =G28/$C$28*100 -> #DIV/0! | H29: =H28/$C$28*100 -> #DIV/0! | I29: =I28/$C$28*100 -> #DIV/0! | J29: =J28/$C$28*100 -> #DIV/0! | K29: =K28/$C$28*100 -> #DIV/0! | L29: =L28/$C$28*100 -> #DIV/0! | M29: =M28/$C$28*100 -> #DIV/0! | ... U29: =U28/$C$28*100 -> #DIV/0!

Sheet Riepilogo dati
A1: Ambito territoriale | B1: Proponente | C1: Partner | D1: Imprese beneficiarie della formazione | E1: Dimensione d’impresa | F1: Priorità | G1: Tipologia di attività | H1: Titolo Operazione | I1: Regime di aiuti | J1: Intensità contributo pubblico | K1: Importo pubblico richiesto (Operazione) | L1: Titoli progetti | M1: Importo pubblico richiesto (Progetto)
A2: ='Dati sintetici Operazione'!C8 -> 0 | B2: ='Dati sintetici Operazione'!C12 -> 0 | C2: ='Dati anagrafici partner'!D7 -> 0 | D2: ='Dati imprese beneficiarie'!B19 -> 0 | E2: ='Dati imprese beneficiarie'!B43 -> 0 | F2: =Priorità!G24 -> 0 | G2: ='Dati Operazione'!A14 -> Iniziative formative aziendali e settoriali di aggiornamento | H2: ='Dati sintetici Operazione'!C5 -> 0 | I2: ='Articolazione della candidatura'!C24 -> 0 | J2: ='Articolazione della candidatura'!C27 -> 0 | K2: ='Dati Operazione'!H29 -> 0 | L2: ='Articolazione della candidatura'!F16 -> 0 | M2: ='Ucs Prog 1'!F10 -> 0
C3: ='Dati anagrafici partner'!D37 -> 0 | D3: ='Dati imprese beneficiarie'!B68 -> 0 | E3: ='Dati imprese beneficiarie'!B92 -> 0 | L3: ='Articolazione della candidatura'!F17 -> 0 | M3: ='Ucs Prog 2'!F10 -> 0
C4: ='Dati anagrafici partner'!D66 -> 0 | D4: ='Dati imprese beneficiarie'!B116 -> 0 | E4: ='Dati imprese beneficiarie'!B140 -> 0 | L4: ='Articolazione della candidatura'!F18 -> 0 | M4: ='Ucs Prog 3'!F10 -> 0
C5: ='Dati anagrafici partner'!D97 -> 0 | D5: ='Dati imprese beneficiarie'!B164 -> 0 | E5: ='Dati imprese beneficiarie'!B188 -> 0 | L5: ='Articolazione della candidatura'!F19 -> 0 | M5: ='Ucs Prog 4'!F10 -> 0
L6: ='Articolazione della candidatura'!F20 -> 0 | M6: ='Ucs Prog 5'!F10 -> 0
C7: AGGIUNGERE GLI ULTERIORI DATI RELATIVI AI PARTNER E ALLE IMPRESE BENEFICIARIE FACENTI PARTI DELL’OPERAZIONE
